BEGIN:VCALENDAR
PRODID:-//hacksw/handcal//NONSGML v1.0//EN
VERSION:2.0
METHOD:PUBLISH
BEGIN:VEVENT
DTSTART:20260917T184500Z
DTEND:20260917T200000Z
LOCATION:Illahe Hills Country Club
UID:2930620260917T184500ZOregon Estate Tax: Common Issues and Updates
DTSTAMP:20260421T114534Z
DESCRIPTION:\nJoin us for an informative luncheon and presentation on the Oregon Estate Tax. Members of the Oregon Department of Revenue Estate/Fiduciary Unit will discuss common issues encountered that impact processing and cause delays, legislative updates and associated changes, and department updates. \n
SUMMARY:Oregon Estate Tax: Common Issues and Updates - Willamette Valley Estate Planning Council 
PRIORITY:3
BEGIN:VALARM
TRIGGER:PT18H
ACTION:DISPLAY
DESCRIPTION:Reminder
END:VALARM
END:VEVENT
END:VCALENDAR